BEGIN:VCALENDAR
VERSION:2.0
PRODID:icalendar-ruby
CALSCALE:GREGORIAN
METHOD:PUBLISH
BEGIN:VEVENT
DTSTAMP:20260423T043301Z
UID:5-322629@ramseurwesleyanchurch.org
DTSTART:20260726T140000Z
DTEND:20260726T150000Z
CLASS:PUBLIC
CREATED:20260225T180143
DESCRIPTION:Sunday Worship
LAST-MODIFIED:20260225T180143
LOCATION:
SUMMARY:Sunday Worship
URL;VALUE=URI:https://www.ramseurwesleyanchurch.com/events/sunday-worship/2
 026-07-26
END:VEVENT
END:VCALENDAR
