BEGIN:VCALENDAR
VERSION:2.0
PRODID:icalendar-ruby
CALSCALE:GREGORIAN
METHOD:PUBLISH
BEGIN:VEVENT
DTSTAMP:20260423T011845Z
UID:5-322627@ramseurwesleyanchurch.org
DTSTART:20260712T140000Z
DTEND:20260712T150000Z
CLASS:PUBLIC
CREATED:20260225T180143
DESCRIPTION:Sunday Worship
LAST-MODIFIED:20260225T180143
LOCATION:
SUMMARY:Sunday Worship
URL;VALUE=URI:https://www.ramseurwesleyanchurch.com/events/sunday-worship/2
 026-07-12
END:VEVENT
END:VCALENDAR
