BEGIN:VCALENDAR
VERSION:2.0
PRODID:icalendar-ruby
CALSCALE:GREGORIAN
METHOD:PUBLISH
BEGIN:VEVENT
DTSTAMP:20260422T234143Z
UID:5-322626@ramseurwesleyanchurch.org
DTSTART:20260705T140000Z
DTEND:20260705T150000Z
CLASS:PUBLIC
CREATED:20260225T180143
DESCRIPTION:Sunday Worship
LAST-MODIFIED:20260225T180143
LOCATION:
SUMMARY:Sunday Worship
URL;VALUE=URI:https://www.ramseurwesleyanchurch.com/events/sunday-worship/2
 026-07-05
END:VEVENT
END:VCALENDAR
